BEGIN:VCALENDAR
VERSION:2.0
PRODID:-//NCUIH - ECPv6.15.10//NONSGML v1.0//EN
CALSCALE:GREGORIAN
METHOD:PUBLISH
X-ORIGINAL-URL:https://ncuih.org
X-WR-CALDESC:Events for NCUIH
REFRESH-INTERVAL;VALUE=DURATION:PT1H
X-Robots-Tag:noindex
X-PUBLISHED-TTL:PT1H
BEGIN:VTIMEZONE
TZID:America/New_York
BEGIN:DAYLIGHT
TZOFFSETFROM:-0500
TZOFFSETTO:-0400
TZNAME:EDT
DTSTART:20210314T070000
END:DAYLIGHT
BEGIN:STANDARD
TZOFFSETFROM:-0400
TZOFFSETTO:-0500
TZNAME:EST
DTSTART:20211107T060000
END:STANDARD
BEGIN:DAYLIGHT
TZOFFSETFROM:-0500
TZOFFSETTO:-0400
TZNAME:EDT
DTSTART:20220313T070000
END:DAYLIGHT
BEGIN:STANDARD
TZOFFSETFROM:-0400
TZOFFSETTO:-0500
TZNAME:EST
DTSTART:20221106T060000
END:STANDARD
BEGIN:DAYLIGHT
TZOFFSETFROM:-0500
TZOFFSETTO:-0400
TZNAME:EDT
DTSTART:20230312T070000
END:DAYLIGHT
BEGIN:STANDARD
TZOFFSETFROM:-0400
TZOFFSETTO:-0500
TZNAME:EST
DTSTART:20231105T060000
END:STANDARD
END:VTIMEZONE
BEGIN:VEVENT
DTSTART;TZID=America/New_York:20221109T080000
DTEND;TZID=America/New_York:20221109T140000
DTSTAMP:20260421T005645
CREATED:20221103T185137Z
LAST-MODIFIED:20230414T173404Z
UID:10000176-1667980800-1668002400@ncuih.org
SUMMARY:NCUIH: #ProtectICWA Breakfast and Supreme Court Listening Event
DESCRIPTION:
URL:https://ncuih.org/event/protect-icwa/
LOCATION:The Conference Center at The Yard\, 700 Pennsylvania Ave. SE\, Washington\, DC\, 20003\, United States
ATTACH;FMTTYPE=image/png:https://ncuih.org/wp-content/uploads/Protect-ICWA-Listening-Party_NCUIH_D233_V5_Website.png
END:VEVENT
END:VCALENDAR