BEGIN:VCALENDAR
VERSION:2.0
PRODID:-//NCUIH - ECPv6.15.10//NONSGML v1.0//EN
CALSCALE:GREGORIAN
METHOD:PUBLISH
X-ORIGINAL-URL:https://ncuih.org
X-WR-CALDESC:Events for NCUIH
REFRESH-INTERVAL;VALUE=DURATION:PT1H
X-Robots-Tag:noindex
X-PUBLISHED-TTL:PT1H
BEGIN:VTIMEZONE
TZID:America/New_York
BEGIN:DAYLIGHT
TZOFFSETFROM:-0500
TZOFFSETTO:-0400
TZNAME:EDT
DTSTART:20250309T070000
END:DAYLIGHT
BEGIN:STANDARD
TZOFFSETFROM:-0400
TZOFFSETTO:-0500
TZNAME:EST
DTSTART:20251102T060000
END:STANDARD
BEGIN:DAYLIGHT
TZOFFSETFROM:-0500
TZOFFSETTO:-0400
TZNAME:EDT
DTSTART:20260308T070000
END:DAYLIGHT
BEGIN:STANDARD
TZOFFSETFROM:-0400
TZOFFSETTO:-0500
TZNAME:EST
DTSTART:20261101T060000
END:STANDARD
BEGIN:DAYLIGHT
TZOFFSETFROM:-0500
TZOFFSETTO:-0400
TZNAME:EDT
DTSTART:20270314T070000
END:DAYLIGHT
BEGIN:STANDARD
TZOFFSETFROM:-0400
TZOFFSETTO:-0500
TZNAME:EST
DTSTART:20271107T060000
END:STANDARD
END:VTIMEZONE
BEGIN:VEVENT
DTSTART;VALUE=DATE:20260427
DTEND;VALUE=DATE:20260501
DTSTAMP:20260423T001626
CREATED:20250821T193028Z
LAST-MODIFIED:20260420T204908Z
UID:10000291-1777248000-1777593599@ncuih.org
SUMMARY:NCUIH 2026 Annual Conference
DESCRIPTION:April 27-April 30\, 2026 | Washington\, D.C.\n\n\n\n\n\n\n2026 NCUIH Annual Conference: Celebrating 50 Years of the Indian Health Care Improvement Act\n\n\n\n\nThe NCUIH Annual Conference will take place April 27–30\, 2026 in Washington\, D.C. \nThis year’s conference commemorates the 50th anniversary of the Indian Health Care Improvement Act (IHCIA)\, highlighting five decades of progress\, collaboration\, and continued commitment to Native health. \nWe look forward to convening Urban Indian Organizations\, health care professionals\, policymakers\, community leaders\, and advocates to discuss critical issues related to urban Indian health. \n\nMonday\, April 27: Training for Urban Indian Organization Boards of Directors\nTuesday and Wednesday\, April 28 – 29: Conference Programming\nThursday\, April 30: Hill Day\n\nIf you have any questions or need additional information\, please contact conference organizers at conference@ncuih.org.
URL:https://ncuih.org/event/ncuih-2026-annual-conference/
LOCATION:The Westin Downtown\, 999 9th St NW\, Washington\, DC\, DC\, 20001\, United States
CATEGORIES:Annual Conference
ATTACH;FMTTYPE=image/png:https://ncuih.org/wp-content/uploads/AC26-Branding-NCUIH-D589_F2_2-scaled.png
END:VEVENT
END:VCALENDAR