BEGIN:VCALENDAR
VERSION:2.0
PRODID:-//NCUIH - ECPv6.15.10//NONSGML v1.0//EN
CALSCALE:GREGORIAN
METHOD:PUBLISH
X-ORIGINAL-URL:https://ncuih.org
X-WR-CALDESC:Events for NCUIH
REFRESH-INTERVAL;VALUE=DURATION:PT1H
X-Robots-Tag:noindex
X-PUBLISHED-TTL:PT1H
BEGIN:VTIMEZONE
TZID:America/New_York
BEGIN:DAYLIGHT
TZOFFSETFROM:-0500
TZOFFSETTO:-0400
TZNAME:EDT
DTSTART:20210314T070000
END:DAYLIGHT
BEGIN:STANDARD
TZOFFSETFROM:-0400
TZOFFSETTO:-0500
TZNAME:EST
DTSTART:20211107T060000
END:STANDARD
BEGIN:DAYLIGHT
TZOFFSETFROM:-0500
TZOFFSETTO:-0400
TZNAME:EDT
DTSTART:20220313T070000
END:DAYLIGHT
BEGIN:STANDARD
TZOFFSETFROM:-0400
TZOFFSETTO:-0500
TZNAME:EST
DTSTART:20221106T060000
END:STANDARD
BEGIN:DAYLIGHT
TZOFFSETFROM:-0500
TZOFFSETTO:-0400
TZNAME:EDT
DTSTART:20230312T070000
END:DAYLIGHT
BEGIN:STANDARD
TZOFFSETFROM:-0400
TZOFFSETTO:-0500
TZNAME:EST
DTSTART:20231105T060000
END:STANDARD
END:VTIMEZONE
BEGIN:VEVENT
DTSTART;TZID=America/New_York:20220929T140000
DTEND;TZID=America/New_York:20220929T153000
DTSTAMP:20260419T104836
CREATED:20220919T185726Z
LAST-MODIFIED:20220919T191752Z
UID:10000102-1664460000-1664465400@ncuih.org
SUMMARY:P2PSC - HIT Technical Assistance Support
DESCRIPTION:September 29\, 2022 | 2:00 – 3:30 p.m. EST\nJoin us for a monthly peer-to-peer solutions center focused on HIT Technical Assistance Support with Subject Matter Expert James Spillane. \nEvent Goal: \nTo provide UIOs with HIT Technical Assistance support \nObjectives: \n\nReview the American Indian Healthcare system and provide tools to support better Health Information Technology (HIT) and Electronic Health Records (EHR)\nIdentify and discuss common challenges in HIT and the EHRs\nDiscuss what HIT/EHR resources/trainings are needed\n\nPresenters: \n\nJames Spillane\, SME\nTiffani Stark\, MHA\n\nAudience: \n\nUIO ED/CEOs\nUIO Staff
URL:https://ncuih.org/event/p2psc-hit-technical-assistance-support/
CATEGORIES:TA
ATTACH;FMTTYPE=image/png:https://ncuih.org/wp-content/uploads/P2P-HIT-TA_NCUIH_D192_F_Website.png
END:VEVENT
END:VCALENDAR