BEGIN:VCALENDAR
VERSION:2.0
PRODID:-//NCUIH - ECPv6.15.10//NONSGML v1.0//EN
CALSCALE:GREGORIAN
METHOD:PUBLISH
X-ORIGINAL-URL:https://ncuih.org
X-WR-CALDESC:Events for NCUIH
REFRESH-INTERVAL;VALUE=DURATION:PT1H
X-Robots-Tag:noindex
X-PUBLISHED-TTL:PT1H
BEGIN:VTIMEZONE
TZID:UTC
BEGIN:STANDARD
TZOFFSETFROM:+0000
TZOFFSETTO:+0000
TZNAME:UTC
DTSTART:20190101T000000
END:STANDARD
END:VTIMEZONE
BEGIN:VEVENT
DTSTART;TZID=UTC:20201015T080000
DTEND;TZID=UTC:20201015T170000
DTSTAMP:20260421T010236
CREATED:20201015T053808Z
LAST-MODIFIED:20220311T064043Z
UID:10000122-1602748800-1602781200@ncuih.org
SUMMARY:Facebook Live: Best Practices on Increasing Native Youth Civic Engagement and Empowering the Native Vote (October 28\, 2020)
DESCRIPTION:Register\n\nDate of Event:\nOct. 28\, 2020\n\nStart Time in EST:\n1:00 pm ET\n\nEnd Time in EST:\n2:00pm ET\n\nDescription:\n\nA FB Live to help understand what civic engagement means to Native youth\, learning how youth can get civically engaged in Native communities and learn about resources available for encouraging the Native youth vote. \n\nAudience:\n\nNative Youth\, UIO ED/CEOs\, UIO Staff\, Stakeholders\, Tribal Partners\, and Tribes \nPresenters: \n\nDebbie Nez-Manuel\, MSW (Navajo) \nAZ Community Leader\, Nonprofit Board Member \nMegan LaRose\,(Navajo) \nCo-Founder\, Morning Star Leaders\, Inc \nMcKenzie Dockerty \nCampaign Field Captain \nTia Yazzie\, (Navajo) \nTitle Vii Indian Ed Program Coordinator & \nNCUIH Youth Council Member \n\nObjectives:\n\n\n\nUnderstanding what civic engagement means to Native youth \n\n\nEngagement between the nonprofit\, statewide campaign and activating a voter base \n\n\nBuilding Confidence and Leading the Way \n\n\nLearning how youth can get civically engaged in their Native community \n\n\nLearning about resources available for encouraging the Native youth vote
URL:https://ncuih.org/event/facebook-live-best-practices-on-increasing-native-youth-civic-engagement-and-empowering-the-native-vote-october-28-2020/
CATEGORIES:GOTV,TA
ATTACH;FMTTYPE=image/png:https://ncuih.org/wp-content/uploads/New-Website-Graphics_NCUIH_D158_V5_Final_Blog-33.png
END:VEVENT
END:VCALENDAR