BEGIN:VCALENDAR
VERSION:2.0
PRODID:-//NCUIH - ECPv6.15.10//NONSGML v1.0//EN
CALSCALE:GREGORIAN
METHOD:PUBLISH
X-ORIGINAL-URL:https://ncuih.org
X-WR-CALDESC:Events for NCUIH
REFRESH-INTERVAL;VALUE=DURATION:PT1H
X-Robots-Tag:noindex
X-PUBLISHED-TTL:PT1H
BEGIN:VTIMEZONE
TZID:UTC
BEGIN:STANDARD
TZOFFSETFROM:+0000
TZOFFSETTO:+0000
TZNAME:UTC
DTSTART:20190101T000000
END:STANDARD
END:VTIMEZONE
BEGIN:VEVENT
DTSTART;TZID=UTC:20200929T080000
DTEND;TZID=UTC:20200929T170000
DTSTAMP:20260421T023450
CREATED:20200929T223414Z
LAST-MODIFIED:20220318T223506Z
UID:10000119-1601366400-1601398800@ncuih.org
SUMMARY:Webinar: Best Practices for Urban Indian Organizations on Pushing Census Completion Efforts using Virtual Platforms & Local Coalition Building (September 29\, 2020)
DESCRIPTION:Date of Event:\nSep 29\, 2020 \nStart Time in EST:\n1:00 PM EST \nEnd Time in EST:\n2:00 PM EST \nDescription: \n\n\n\n\nNCUIH is pleased to host our GOTC Webinar Session 2 with the Kansas City Indian Center and a former US Census Tribal Partnership Specialist on “Best Practices for Urban Indian Organizations on Pushing Census Completion Efforts using Virtual Platforms & Local Coalition Building”. This event will help Urban Indian Organizations build capacity across Indian Country to increase census completion efforts.\n\n\n\n\nAudience: \n\nUIO ED/CEOs\, UIO Staff\n\nPresenters: \n\nGaylene Crouser\, Executive Director\, Kansas City Indian Center\nMaria E. Boyd\, Former Tribal Partnership Specialist\, U.S. Census Bureau\n\nObjectives: \n\nHow can UIOs use social media to increase census completion\nWhat virtual games/incentives can UIO use to increase census completion efforts\nBest practices on “Get out the Census” local coalition building efforts\nResources for Urban AI/AN Communities\nQ & A\n\nWatch Recording Download Slides
URL:https://ncuih.org/event/webinar-best-practices-for-urban-indian-organizations-on-pushing-census-completion-efforts-using-virtual-platforms-local-coalition-building-september-29-2020/
CATEGORIES:GOTV,TA
END:VEVENT
END:VCALENDAR