BEGIN:VCALENDAR
VERSION:2.0
PRODID:-//NCUIH - ECPv6.15.10//NONSGML v1.0//EN
CALSCALE:GREGORIAN
METHOD:PUBLISH
X-ORIGINAL-URL:https://ncuih.org
X-WR-CALDESC:Events for NCUIH
REFRESH-INTERVAL;VALUE=DURATION:PT1H
X-Robots-Tag:noindex
X-PUBLISHED-TTL:PT1H
BEGIN:VTIMEZONE
TZID:UTC
BEGIN:STANDARD
TZOFFSETFROM:+0000
TZOFFSETTO:+0000
TZNAME:UTC
DTSTART:20210101T000000
END:STANDARD
END:VTIMEZONE
BEGIN:VEVENT
DTSTART;TZID=UTC:20220310T140000
DTEND;TZID=UTC:20220310T150000
DTSTAMP:20260422T032155
CREATED:20220301T062834Z
LAST-MODIFIED:20220323T210616Z
UID:10000157-1646920800-1646924400@ncuih.org
SUMMARY:The Coral Council: UIO Ambassador Program Kick-off and Orientation Session
DESCRIPTION:Mar. 10\, 2022 | 2-3 p.m. EST\nAbout the Event: \nThis program kick-off and orientation session will introduce the Coral Council\, a UIO Ambassador program that brings together UIO experts to share culturally-competent\, evidence-based and promising best practices on HIV/AIDS. This program intends to highlight UIOs with HIV treatment and prevention programs in place to share their best practices throughout the urban American Indian and Alaska Native healthcare community. \nCoral is something that American Indians attribute soothing qualities to; maintaining that it garners power in its rise from the sea. Coral aids the wearer in travel\, health\, and protection. We want to acknowledge the Coral Council as protectors and have a symbolic representation of the strength they bring with their knowledge and expertise.
URL:https://ncuih.org/event/coral-council/
CATEGORIES:Public Health
ATTACH;FMTTYPE=image/png:https://ncuih.org/wp-content/uploads/Coral-Council_NCUIH_D067_V2_Website.png
END:VEVENT
END:VCALENDAR