BEGIN:VCALENDAR
VERSION:2.0
PRODID:-//NCUIH - ECPv6.15.10//NONSGML v1.0//EN
CALSCALE:GREGORIAN
METHOD:PUBLISH
X-WR-CALNAME:NCUIH
X-ORIGINAL-URL:https://ncuih.org
X-WR-CALDESC:Events for NCUIH
REFRESH-INTERVAL;VALUE=DURATION:PT1H
X-Robots-Tag:noindex
X-PUBLISHED-TTL:PT1H
BEGIN:VTIMEZONE
TZID:UTC
BEGIN:STANDARD
TZOFFSETFROM:+0000
TZOFFSETTO:+0000
TZNAME:UTC
DTSTART:20200101T000000
END:STANDARD
END:VTIMEZONE
BEGIN:VEVENT
DTSTART;TZID=UTC:20211027T153000
DTEND;TZID=UTC:20211027T163000
DTSTAMP:20260422T102437
CREATED:20211026T192115Z
LAST-MODIFIED:20211026T192140Z
UID:10000150-1635348600-1635352200@ncuih.org
SUMMARY:Messengers in Health: Protecting our Elders Through Vaccinations
DESCRIPTION:The “Messengers in Health” Community of Learning three-part series supports provider vaccine awareness and education to encourage urban Indian patients. The series will provide strategies and resources for individual clinicians providing health care\, strategies and resources for health care organizations\, messaging and communications strategies\, and identification of evidence-based practices. \n\nObjectives: \n1. Identify ways to effectively communicate with urban Indian Elders \n2. Share strategies to help improve trust between urban Indian Elders and Health Care Providers \n3. Learn about recommended vaccinations for Elders this fall \n4. Facilitate discussion between providers and frontline health care workers on Elder care and vaccinations \n  \nHost and Panelists: \n• Host: Tiffani Stark\, MHA \n• Panelist: Evey Maho MAdm. (Diné) \n• Panelist: Leila A. Ladnier\, BSN\, RN \n\n 
URL:https://ncuih.org/event/messengers-in-health-protecting-our-elders-through-vaccinations/
CATEGORIES:Public Health
ATTACH;FMTTYPE=image/png:https://ncuih.org/wp-content/uploads/COL_Messengers-in-Health_NCUIH_D189_V1_Zoom.png
END:VEVENT
END:VCALENDAR