BEGIN:VCALENDAR
VERSION:2.0
PRODID:-//NCUIH - ECPv6.15.10//NONSGML v1.0//EN
CALSCALE:GREGORIAN
METHOD:PUBLISH
X-WR-CALNAME:NCUIH
X-ORIGINAL-URL:https://ncuih.org
X-WR-CALDESC:Events for NCUIH
REFRESH-INTERVAL;VALUE=DURATION:PT1H
X-Robots-Tag:noindex
X-PUBLISHED-TTL:PT1H
BEGIN:VTIMEZONE
TZID:UTC
BEGIN:STANDARD
TZOFFSETFROM:+0000
TZOFFSETTO:+0000
TZNAME:UTC
DTSTART:20200101T000000
END:STANDARD
END:VTIMEZONE
BEGIN:VEVENT
DTSTART;TZID=UTC:20211117T153000
DTEND;TZID=UTC:20211117T163000
DTSTAMP:20260422T072713
CREATED:20211210T020958Z
LAST-MODIFIED:20211210T020958Z
UID:10000154-1637163000-1637166600@ncuih.org
SUMMARY:Messengers in Health: Tis the season to vaccinate – Flu\, Pneumonia\, and COVID-19
DESCRIPTION:Nov 17 | 3:30-4:30 p.m. EST  \nObjectives: \n\nIdentify ways to effectively communicate with Urban AI/Ans regarding vaccinations\nShare strategies to help improve trust between Urban AI/ANs and health care providers\nReview the importance of vaccinations and why they are needed\nLearn about the recommended vaccinations for this fall season\nFacilitate discussion between health care providers and health care workers on the recommended vaccinations\n\nPresenters: \n\nTiffani Stark\, MHA\nMary J. Owen\, MD\, Tlingit\nLeila Ladnier\, BSN\, RN
URL:https://ncuih.org/event/messengers-in-health-tis-the-season-to-vaccinate-flu-pneumonia-and-covid-19/
CATEGORIES:Public Health
END:VEVENT
END:VCALENDAR