BEGIN:VCALENDAR
VERSION:2.0
PRODID:-//NCUIH - ECPv6.15.10//NONSGML v1.0//EN
CALSCALE:GREGORIAN
METHOD:PUBLISH
X-WR-CALNAME:NCUIH
X-ORIGINAL-URL:https://ncuih.org
X-WR-CALDESC:Events for NCUIH
REFRESH-INTERVAL;VALUE=DURATION:PT1H
X-Robots-Tag:noindex
X-PUBLISHED-TTL:PT1H
BEGIN:VTIMEZONE
TZID:America/New_York
BEGIN:DAYLIGHT
TZOFFSETFROM:-0500
TZOFFSETTO:-0400
TZNAME:EDT
DTSTART:20210314T070000
END:DAYLIGHT
BEGIN:STANDARD
TZOFFSETFROM:-0400
TZOFFSETTO:-0500
TZNAME:EST
DTSTART:20211107T060000
END:STANDARD
BEGIN:DAYLIGHT
TZOFFSETFROM:-0500
TZOFFSETTO:-0400
TZNAME:EDT
DTSTART:20220313T070000
END:DAYLIGHT
BEGIN:STANDARD
TZOFFSETFROM:-0400
TZOFFSETTO:-0500
TZNAME:EST
DTSTART:20221106T060000
END:STANDARD
BEGIN:DAYLIGHT
TZOFFSETFROM:-0500
TZOFFSETTO:-0400
TZNAME:EDT
DTSTART:20230312T070000
END:DAYLIGHT
BEGIN:STANDARD
TZOFFSETFROM:-0400
TZOFFSETTO:-0500
TZNAME:EST
DTSTART:20231105T060000
END:STANDARD
END:VTIMEZONE
BEGIN:VEVENT
DTSTART;TZID=America/New_York:20221024T133000
DTEND;TZID=America/New_York:20221024T150000
DTSTAMP:20260419T121719
CREATED:20221004T181835Z
LAST-MODIFIED:20221004T181835Z
UID:10000109-1666618200-1666623600@ncuih.org
SUMMARY:UIO Focus Group: All UIOs (Make-Up Session)
DESCRIPTION:October 24\, 2022 | 1:30 – 3:00 p.m. EST\nPlease join NCUIH staff for a discussion on priorities for 2023\, a review of accomplishments and challenges in 2022\, and an opportunity to provide candid feedback about any other experiences. \nEvent Objectives: \n\nDiscuss priorities for 2023\nReview accomplishments and challenges in 2022\nProvide feedback about experiences\n\nPresenters: \n\nJeremy Grabiner\nAlexandra Payan\n\nAgenda: \n\n1:30 p.m. – Welcome\n1:35 p.m. – Introduction\n1:35 – 3:00 p.m. – Focus Group Discussion
URL:https://ncuih.org/event/uio-focus-group-all-uios-make-up-session/
CATEGORIES:Policy
ATTACH;FMTTYPE=image/png:https://ncuih.org/wp-content/uploads/UIO-Focus-Groups-22_NCUIH_D204_F2_Website.png
END:VEVENT
END:VCALENDAR