BEGIN:VCALENDAR
VERSION:2.0
PRODID:-//NCUIH - ECPv6.15.10//NONSGML v1.0//EN
CALSCALE:GREGORIAN
METHOD:PUBLISH
X-WR-CALNAME:NCUIH
X-ORIGINAL-URL:https://ncuih.org
X-WR-CALDESC:Events for NCUIH
REFRESH-INTERVAL;VALUE=DURATION:PT1H
X-Robots-Tag:noindex
X-PUBLISHED-TTL:PT1H
BEGIN:VTIMEZONE
TZID:UTC
BEGIN:STANDARD
TZOFFSETFROM:+0000
TZOFFSETTO:+0000
TZNAME:UTC
DTSTART:20200101T000000
END:STANDARD
END:VTIMEZONE
BEGIN:VEVENT
DTSTART;TZID=UTC:20210513T080000
DTEND;TZID=UTC:20210513T170000
DTSTAMP:20260419T220914
CREATED:20210514T031547Z
LAST-MODIFIED:20220308T041657Z
UID:10000137-1620892800-1620925200@ncuih.org
SUMMARY:COVID-19 and Infection Control: Good Ventilation & Air Handling as a Part of Infection Control (May 13\, 2021)
DESCRIPTION:May 13\, 2021 | 2:30-3:30 p.m. EST \nNext in the “COVID-19 and Infection Control” series is the seventh session\, which will discuss the importance of “Good Ventilation & Air Handling as a Part of Infection Control.” \nPresenters: \n1.       Rochelle Moore\, LMHC (Urban Indian Center of Salt Lake) \n2.       Karen Kwok\, MSN\, FNP-BC\, MPH (NCUIH) \n3.       Dr. Abigail Carlson\, (Centers for Disease Control and Prevention) \n  \nObjectives: \n\nIdentify and review the techniques and requirements for proper ventilation and air handling procedures\nEncourage engagement around proper ventilation and air handling within a clinical setting as part of infection control\nDemonstrate an understanding and recognize the importance of ventilation and air handling in a clinical setting during the COVID-19 pandemic.\n\nWatch the Recording  Download the Slides
URL:https://ncuih.org/event/covid-19-and-infection-control-good-ventilation-air-handling-as-a-part-of-infection-control-may-13-2021/
CATEGORIES:IPC
END:VEVENT
END:VCALENDAR