BEGIN:VCALENDAR
VERSION:2.0
PRODID:-//NCUIH - ECPv6.15.10//NONSGML v1.0//EN
CALSCALE:GREGORIAN
METHOD:PUBLISH
X-ORIGINAL-URL:https://ncuih.org
X-WR-CALDESC:Events for NCUIH
REFRESH-INTERVAL;VALUE=DURATION:PT1H
X-Robots-Tag:noindex
X-PUBLISHED-TTL:PT1H
BEGIN:VTIMEZONE
TZID:America/New_York
BEGIN:DAYLIGHT
TZOFFSETFROM:-0500
TZOFFSETTO:-0400
TZNAME:EDT
DTSTART:20210314T070000
END:DAYLIGHT
BEGIN:STANDARD
TZOFFSETFROM:-0400
TZOFFSETTO:-0500
TZNAME:EST
DTSTART:20211107T060000
END:STANDARD
BEGIN:DAYLIGHT
TZOFFSETFROM:-0500
TZOFFSETTO:-0400
TZNAME:EDT
DTSTART:20220313T070000
END:DAYLIGHT
BEGIN:STANDARD
TZOFFSETFROM:-0400
TZOFFSETTO:-0500
TZNAME:EST
DTSTART:20221106T060000
END:STANDARD
BEGIN:DAYLIGHT
TZOFFSETFROM:-0500
TZOFFSETTO:-0400
TZNAME:EDT
DTSTART:20230312T070000
END:DAYLIGHT
BEGIN:STANDARD
TZOFFSETFROM:-0400
TZOFFSETTO:-0500
TZNAME:EST
DTSTART:20231105T060000
END:STANDARD
END:VTIMEZONE
BEGIN:VEVENT
DTSTART;TZID=America/New_York:20220614T140000
DTEND;TZID=America/New_York:20220614T150000
DTSTAMP:20260419T102729
CREATED:20220609T193251Z
LAST-MODIFIED:20231011T202409Z
UID:10000098-1655215200-1655218800@ncuih.org
SUMMARY:Strengthening the Ribbon: A Primary Care Approach to Eliminating HIV/AIDS in Indian Country
DESCRIPTION:Red Ribbon Campaign: Uniting AI/AN Communities to Eliminate HIV/AIDS\nThis interactive three-part series will provide a special focus on providing support and resources to the frontline practitioners fighting to eliminate HIV/AIDS in Indian Country. This series will will also provide forums for participants to learn about and discuss innovative resources and best practices in the reduction of stigma in the community\, providers\, and support systems and emphasize increasing outreach and testing services\, and hearing the stories from the frontlines of our urban Indian communities. \nEvent Objectives: \n\nProvide insight into integrating clinical interventions and treatments for addressing and eliminating the HIV/AIDS epidemic.\nSupplement existing knowledge on ways providers can support HIV/AIDS care and treatment provision.\n\nEvent Presenters: \n\nDr. Jorge Mera\, Director of Infectious Diseases | Cherokee Nation Health Services (CNHS)\nJessica Leston\, Clinical Programs Director | Northwest Portland Area Indian Health Board (NPAIHB)\nDavid Stephens\, BSN\, RN\, ECHO Clinic Director | Northwest Portland Area Indian Health Board (NPAIHB)\n\nAudience:\nUIO ED/CEOs\, UIO Staff \nThis webinar is made possible by the Minority HIV/AIDS Fund through the Indian Health Service.
URL:https://ncuih.org/event/strengthening-the-ribbon-a-primary-care-approach-to-eliminating-hiv-aids-in-indian-country/
CATEGORIES:Community of Learning
ATTACH;FMTTYPE=image/png:https://ncuih.org/wp-content/uploads/RR_Eliminate-AI-AN-HIV-AIDS_NCUIH_D126_V3_Website.png
END:VEVENT
END:VCALENDAR